BEGIN:VCALENDAR
VERSION:2.0
PRODID:spatie/icalendar-generator
DESCRIPTION:Events from John McGivney Children&amp;#039\;s Centre
X-WR-CALDESC:Events from John McGivney Children&amp;#039\;s Centre
REFRESH-INTERVAL;VALUE=DURATION:PT1440M
X-PUBLISHED-TTL:PT1440M
BEGIN:VTIMEZONE
TZID:America/Toronto
BEGIN:STANDARD
DTSTART:20251102T020000Z
TZOFFSETFROM:-0400
TZOFFSETTO:-0500
END:STANDARD
BEGIN:DAYLIGHT
DTSTART:20260308T020000Z
TZOFFSETFROM:-0500
TZOFFSETTO:-0400
END:DAYLIGHT
BEGIN:STANDARD
DTSTART:20261101T020000Z
TZOFFSETFROM:-0400
TZOFFSETTO:-0500
END:STANDARD
END:VTIMEZONE
BEGIN:VTIMEZONE
TZID:UTC
BEGIN:STANDARD
DTSTART:20250726T114117Z
TZOFFSETFROM:+0000
TZOFFSETTO:+0000
END:STANDARD
END:VTIMEZONE
BEGIN:VEVENT
UID:46-54
DTSTAMP:20260422T114117Z
SUMMARY:Planning for Success: Preparing Now for the Future
LOCATION:École secondaire catholique E.J. Lajeunesse 600 E.C. Row Avenue W
 est  Windsor Ontario
ORGANIZER;CN=Cathy Mombourquette:MAILTO:cathy.mombourquette@jmccentre.ca
DTSTART;TZID=America/Toronto;VALUE=DATE:20260513
DTEND;TZID=America/Toronto;VALUE=DATE:20260514
X-ALT-DESC;FMTTYPE=TEXT/HTML:Are you a high school student\, parent\, careg
 iver\, or educator thinking about what comes next after graduation? Planni
 ng for Success is an informative\, community-based event designed to help 
 families navigate the transition to adulthood for youth with developmental
  disabilities. Join us for an open house-style evening where you can conne
 ct with a wide range of&amp;hellip\;
CATEGORIES:General
URL;VALUE=URI:https://jmccentre.ca/events/planning-for-success-preparing-no
 w-for-the-future/
METHOD:PUBLISH
END:VEVENT
END:VCALENDAR